BEGIN:VCALENDAR
VERSION:2.0
PRODID:-//Tukios.com/
BEGIN:VEVENT
UID:bede4238-d07a-45a5-9018-5fcdd665b35d@www.watkowski-mulyck.com
DTSTAMP:20260424T162203Z
DTSTART:20260523T153000Z
DTEND:20260523T163000Z
SUMMARY:Memorial Service
DESCRIPTION:
URL:https://www.watkowski-mulyck.com/obituaries/patricia-sweningson
LOCATION:Watkowski-Mulyck Funeral Home 376 E Sarnia St  Winona MN 55987
GEO:44.0406899;-91.6322517
END:VEVENT
END:VCALENDAR