BEGIN:VCALENDAR
VERSION:2.0
PRODID:-//Tukios.com/
BEGIN:VEVENT
UID:03d712d5-364f-44d4-aee0-2d7d2449b0ad@www.watkowski-mulyck.com
DTSTAMP:20260424T162243Z
DTSTART:20260523T140000Z
DTEND:20260523T153000Z
SUMMARY:Visitation
DESCRIPTION:
URL:https://www.watkowski-mulyck.com/obituaries/patricia-sweningson
LOCATION:Watkowski-Mulyck Funeral Home 376 E Sarnia St  Winona MN 55987
GEO:44.0406899;-91.6322517
END:VEVENT
END:VCALENDAR