BEGIN:VCALENDAR
VERSION:2.0
PRODID:-//Tukios.com/
BEGIN:VEVENT
UID:0a074183-90c2-4375-8baa-3a36c4854b94@www.watkowski-mulyck.com
DTSTAMP:20260421T203821Z
DTSTART:20260425T160000Z
DTEND:20260425T170000Z
SUMMARY:Funeral Service
DESCRIPTION:
URL:https://www.watkowski-mulyck.com/obituaries/james-christensen
LOCATION:Watkowski-Mulyck Funeral Home 376 E Sarnia St  Winona MN 55987
GEO:44.0406899;-91.6322517
END:VEVENT
END:VCALENDAR