BEGIN:VCALENDAR
VERSION:2.0
PRODID:-//Tukios.com/
BEGIN:VEVENT
UID:0af7b5b3-2a2a-4a0f-8ba3-49b1043ea60d@www.watkowski-mulyck.com
DTSTAMP:20260421T203740Z
DTSTART:20260425T150000Z
DTEND:20260425T160000Z
SUMMARY:Visitation
DESCRIPTION:
URL:https://www.watkowski-mulyck.com/obituaries/james-christensen
LOCATION:Watkowski-Mulyck Funeral Home 376 E Sarnia St  Winona MN 55987
GEO:44.0406899;-91.6322517
END:VEVENT
END:VCALENDAR