BEGIN:VCALENDAR
VERSION:2.0
PRODID:-//Tukios.com/
BEGIN:VEVENT
UID:49ddfb09-a4f3-4225-99ae-68d0b70d3f30@www.watkowski-mulyck.com
DTSTAMP:20260421T203432Z
DTSTART:20260428T160000Z
DTEND:20260428T170000Z
SUMMARY:Mass
DESCRIPTION:A luncheon will be held at the Basilica following the Mass.
URL:https://www.watkowski-mulyck.com/obituaries/bonnie-speltz
LOCATION:Basilica of St. Stanislaus Kostka 625 East 4th Street  Winona MN 
	55987
GEO:44.0469969;-91.6222753
END:VEVENT
END:VCALENDAR