BEGIN:VCALENDAR
VERSION:2.0
PRODID:-//Tukios.com/
BEGIN:VEVENT
UID:7e325f75-e8d5-4706-a065-3fc6cd81d798@www.watkowski-mulyck.com
DTSTAMP:20260421T202906Z
DTSTART:20260428T143000Z
DTEND:20260428T160000Z
SUMMARY:Visitation
DESCRIPTION:
URL:https://www.watkowski-mulyck.com/obituaries/bonnie-speltz
LOCATION:Basilica of St. Stanislaus Kostka 625 East 4th Street  Winona MN 
	55987
GEO:44.04703;-91.6222746
END:VEVENT
END:VCALENDAR